BEGIN:VCALENDAR
VERSION:2.0
PRODID:-//Zespół Szkolno - Przedszkolny w Radziłowie - ECPv5.8.1//NONSGML v1.0//EN
CALSCALE:GREGORIAN
METHOD:PUBLISH
X-WR-CALNAME:Zespół Szkolno - Przedszkolny w Radziłowie
X-ORIGINAL-URL:http://radzilow.net
X-WR-CALDESC:Wydarzenia na Zespół Szkolno - Przedszkolny w Radziłowie
BEGIN:VTIMEZONE
TZID:Europe/Warsaw
BEGIN:DAYLIGHT
TZOFFSETFROM:+0100
TZOFFSETTO:+0200
TZNAME:CEST
DTSTART:20260329T010000
END:DAYLIGHT
BEGIN:STANDARD
TZOFFSETFROM:+0200
TZOFFSETTO:+0100
TZNAME:CET
DTSTART:20261025T010000
END:STANDARD
END:VTIMEZONE
BEGIN:VEVENT
DTSTART;VALUE=DATE:20260522
DTEND;VALUE=DATE:20260523
DTSTAMP:20260422T044344
CREATED:20250829T093202Z
LAST-MODIFIED:20250829T093203Z
UID:39532-1779408000-1779494399@radzilow.net
SUMMARY:Informacja o przewidywanych ocenach rocznych
DESCRIPTION:
URL:http://radzilow.net/event/informacja-o-przewidywanych-ocenach-rocznych-2/
END:VEVENT
BEGIN:VEVENT
DTSTART;VALUE=DATE:20260616
DTEND;VALUE=DATE:20260617
DTSTAMP:20260422T044344
CREATED:20250829T093301Z
LAST-MODIFIED:20250829T093302Z
UID:39535-1781568000-1781654399@radzilow.net
SUMMARY:Informacja o rocznych ocenach
DESCRIPTION:
URL:http://radzilow.net/event/informacja-o-rocznych-ocenach-2/
END:VEVENT
BEGIN:VEVENT
DTSTART;VALUE=DATE:20260623
DTEND;VALUE=DATE:20260624
DTSTAMP:20260422T044344
CREATED:20250829T093405Z
LAST-MODIFIED:20250829T093405Z
UID:39538-1782172800-1782259199@radzilow.net
SUMMARY:Zebranie Rady Pedagogicznej
DESCRIPTION:
URL:http://radzilow.net/event/zebranie-rady-pedagogicznej-48/
CATEGORIES:Zebrania Rad Pedagogicznych
END:VEVENT
BEGIN:VEVENT
DTSTART;VALUE=DATE:20260624
DTEND;VALUE=DATE:20260626
DTSTAMP:20260422T044344
CREATED:20250827T083515Z
LAST-MODIFIED:20250827T083516Z
UID:39505-1782259200-1782431999@radzilow.net
SUMMARY:Propozycja dodatkowych dni wolnych
DESCRIPTION:
URL:http://radzilow.net/event/propozycja-dodatkowych-dni-wolnych-7/
CATEGORIES:Propozycje dodatkowych dni wolnych od zajęć dydaktyczno – wychowawczych
END:VEVENT
BEGIN:VEVENT
DTSTART;VALUE=DATE:20260626
DTEND;VALUE=DATE:20260627
DTSTAMP:20260422T044344
CREATED:20250731T084649Z
LAST-MODIFIED:20250731T084650Z
UID:39461-1782432000-1782518399@radzilow.net
SUMMARY:Zakończenie zajęć dydaktyczno - wychowawczych  w szkołach
DESCRIPTION:
URL:http://radzilow.net/event/zakonczenie-zajec-dydaktyczno-wychowawczych-w-szkolach/
END:VEVENT
BEGIN:VEVENT
DTSTART;VALUE=DATE:20260627
DTEND;VALUE=DATE:20260901
DTSTAMP:20260422T044344
CREATED:20250731T084753Z
LAST-MODIFIED:20250731T084753Z
UID:39464-1782518400-1788220799@radzilow.net
SUMMARY:Ferie letnie
DESCRIPTION:
URL:http://radzilow.net/event/ferie-letnie-8/
END:VEVENT
BEGIN:VEVENT
DTSTART;VALUE=DATE:20260702
DTEND;VALUE=DATE:20260703
DTSTAMP:20260422T044344
CREATED:20250829T093439Z
LAST-MODIFIED:20250829T093439Z
UID:39541-1782950400-1783036799@radzilow.net
SUMMARY:Zebranie Rady Pedagogicznej
DESCRIPTION:
URL:http://radzilow.net/event/zebranie-rady-pedagogicznej-49/
CATEGORIES:Zebrania Rad Pedagogicznych
END:VEVENT
END:VCALENDAR